BEGIN:VCALENDAR
PRODID:-//eluceo/ical//2.0/EN
VERSION:2.0
CALSCALE:GREGORIAN
BEGIN:VEVENT
UID:event-807
DTSTAMP:20260421T083634Z
SUMMARY:Business Network Event
DESCRIPTION:On February 11 the Business Network Event will take place! Du
 ring this event you will get to know Joanknecht and RSM  in an informal 
 way.  Together with these companies\, we will have a Limoncello workshop 
 The walk-in will be at 18.45h. More information about the program will be
  disclosed later.  If you are interested in the opportunities the partici
 pating companies offer and would like to get to know them in an informal s
 etting\, make sure to register!
DTSTART:20250211T173000Z
DTEND:20250211T220000Z
END:VEVENT
BEGIN:VTIMEZONE
TZID:UTC
BEGIN:STANDARD
DTSTART:20250211T173000
TZNAME:UTC
TZOFFSETTO:+0000
TZOFFSETFROM:+0000
END:STANDARD
END:VTIMEZONE
END:VCALENDAR
